BEGIN:VCALENDAR
VERSION:2.0
PRODID:-//CVJM Anzhausen - ECPv6.15.20//NONSGML v1.0//EN
CALSCALE:GREGORIAN
METHOD:PUBLISH
X-WR-CALNAME:CVJM Anzhausen
X-ORIGINAL-URL:https://www.cvjm-anzhausen.de
X-WR-CALDESC:Veranstaltungen für CVJM Anzhausen
REFRESH-INTERVAL;VALUE=DURATION:PT1H
X-Robots-Tag:noindex
X-PUBLISHED-TTL:PT1H
BEGIN:VTIMEZONE
TZID:Europe/Berlin
BEGIN:DAYLIGHT
TZOFFSETFROM:+0100
TZOFFSETTO:+0200
TZNAME:CEST
DTSTART:20250330T010000
END:DAYLIGHT
BEGIN:STANDARD
TZOFFSETFROM:+0200
TZOFFSETTO:+0100
TZNAME:CET
DTSTART:20251026T010000
END:STANDARD
BEGIN:DAYLIGHT
TZOFFSETFROM:+0100
TZOFFSETTO:+0200
TZNAME:CEST
DTSTART:20260329T010000
END:DAYLIGHT
BEGIN:STANDARD
TZOFFSETFROM:+0200
TZOFFSETTO:+0100
TZNAME:CET
DTSTART:20261025T010000
END:STANDARD
BEGIN:DAYLIGHT
TZOFFSETFROM:+0100
TZOFFSETTO:+0200
TZNAME:CEST
DTSTART:20270328T010000
END:DAYLIGHT
BEGIN:STANDARD
TZOFFSETFROM:+0200
TZOFFSETTO:+0100
TZNAME:CET
DTSTART:20271031T010000
END:STANDARD
END:VTIMEZONE
BEGIN:VEVENT
DTSTART;TZID=Europe/Berlin:20260509T190000
DTEND;TZID=Europe/Berlin:20260509T220000
DTSTAMP:20260419T193849
CREATED:20260201T180025Z
LAST-MODIFIED:20260413T164450Z
UID:333-1778353200-1778364000@www.cvjm-anzhausen.de
SUMMARY:SPIEL MIT: Zusammen Spielen - Zusammen Gewinnen
DESCRIPTION:🎲 CVJM-SpieleabendJeden 2. Samstag im MonatFamilien- & Strategiespiele\, kooperative Spiele\,Tischtennis\, Kicker & DartMit geistlichem ImpulsFür alle Generationen📍 Vereinshaus\, Bösselbach 12👉 Ansprechpartner: Manuel Gröschel\, Tel. 0151-24102221\, manuel.groeschel@cvjm-anzhausen.deAufsichtspflicht liegt bei den Eltern
URL:https://www.cvjm-anzhausen.de/?tribe_events=spiel-mit-zusammen-spielen-zusammen-gewinnen-5
END:VEVENT
BEGIN:VEVENT
DTSTART;VALUE=DATE:20260604
DTEND;VALUE=DATE:20260605
DTSTAMP:20260419T193849
CREATED:20250401T134244Z
LAST-MODIFIED:20251109T112133Z
UID:89-1780531200-1780617599@www.cvjm-anzhausen.de
SUMMARY:CVJM Jungschar-Fahrradrallye 2026
DESCRIPTION:Die CVJM Jungschar-Fahrradrallye findet am 4. Juni 2026 am Sportplatz Anzhausen statt – im Rahmen des 100-jährigen Jubiläums des CVJM Anzhausen. \nWeitere Informationen folgen demnächst.
URL:https://www.cvjm-anzhausen.de/?tribe_events=planung-cvjm-jungschar-fahrradrallye-2026
LOCATION:Sportplatz Anzhausen\, Wilnsdorf\, 57234\, Germany
ORGANIZER;CN="CVJM Anzhausen":MAILTO:info@cvjm-anzhausen.de
END:VEVENT
BEGIN:VEVENT
DTSTART;VALUE=DATE:20260705
DTEND;VALUE=DATE:20260706
DTSTAMP:20260419T193849
CREATED:20251109T112902Z
LAST-MODIFIED:20251109T114538Z
UID:288-1783209600-1783295999@www.cvjm-anzhausen.de
SUMMARY:Sommerfest - Jubiläumsedition zum 100. Geburtstag
DESCRIPTION:Wir feiern Geburtstag und verwandeln unser Sommerfest in eine Jubiläumsfeier. \nNähere Informationen folgen.
URL:https://www.cvjm-anzhausen.de/?tribe_events=sommerfest-jubilaeumsedition-zum-100-geburtstag
LOCATION:Sportplatz Anzhausen\, Wilnsdorf\, 57234\, Germany
END:VEVENT
BEGIN:VEVENT
DTSTART;TZID=Europe/Berlin:20260711T190000
DTEND;TZID=Europe/Berlin:20260711T220000
DTSTAMP:20260419T193849
CREATED:20260201T180048Z
LAST-MODIFIED:20260413T164410Z
UID:335-1783796400-1783807200@www.cvjm-anzhausen.de
SUMMARY:SPIEL MIT: Zusammen Spielen - Zusammen Gewinnen
DESCRIPTION:🎲 CVJM-SpieleabendJeden 2. Samstag im MonatFamilien- & Strategiespiele\, kooperative Spiele\,Tischtennis\, Kicker & DartMit geistlichem ImpulsFür alle Generationen📍 Vereinshaus\, Bösselbach 12👉 Ansprechpartner: Manuel Gröschel\, Tel. 0151-24102221\, manuel.groeschel@cvjm-anzhausen.deAufsichtspflicht liegt bei den Eltern
URL:https://www.cvjm-anzhausen.de/?tribe_events=spiel-mit-zusammen-spielen-zusammen-gewinnen-6
END:VEVENT
BEGIN:VEVENT
DTSTART;TZID=Europe/Berlin:20260912T190000
DTEND;TZID=Europe/Berlin:20260912T220000
DTSTAMP:20260419T193849
CREATED:20260201T180053Z
LAST-MODIFIED:20260413T164352Z
UID:337-1789239600-1789250400@www.cvjm-anzhausen.de
SUMMARY:SPIEL MIT: Zusammen Spielen - Zusammen Gewinnen
DESCRIPTION:🎲 CVJM-SpieleabendJeden 2. Samstag im MonatFamilien- & Strategiespiele\, kooperative Spiele\,Tischtennis\, Kicker & DartMit geistlichem ImpulsFür alle Generationen📍 Vereinshaus\, Bösselbach 12👉 Ansprechpartner: Manuel Gröschel\, Tel. 0151-24102221\, manuel.groeschel@cvjm-anzhausen.deAufsichtspflicht liegt bei den Eltern
URL:https://www.cvjm-anzhausen.de/?tribe_events=spiel-mit-zusammen-spielen-zusammen-gewinnen-7
END:VEVENT
BEGIN:VEVENT
DTSTART;TZID=Europe/Berlin:20260920T110000
DTEND;TZID=Europe/Berlin:20260920T130000
DTSTAMP:20260419T193849
CREATED:20251109T113049Z
LAST-MODIFIED:20251109T114725Z
UID:290-1789902000-1789909200@www.cvjm-anzhausen.de
SUMMARY:Babybasar Herbst-/Winter-Edition
DESCRIPTION:Unser Herbst-/Winterbasar findet am Sonntag\, den 20.9.2026 von 11:00 Uhr – 13:00 Uhr in der Mehrzweckhalle Anzhausen statt. Einlass für Schwangere (als Nachweis gilt der Mutterpass) mit einer Begleitperson ist um 10:00 Uhr. \nIn der Cafeteria werden Kaffee & Kuchen\, frische Waffeln\, Softdrinks und heiße Würstchen angeboten. \nInformationen erhalten Sie unter der E-Mail-Adresse babybasar-anzhausen@web.de.
URL:https://www.cvjm-anzhausen.de/?tribe_events=babybasar-herbst-winter-edition-2
LOCATION:Mehrzweckhalle Anzhausen\, Deuzer Str. 6\, Mehrzweckhalle Anzhausen\, 57234\, Germany
END:VEVENT
BEGIN:VEVENT
DTSTART;TZID=Europe/Berlin:20261004T170000
DTEND;TZID=Europe/Berlin:20261004T190000
DTSTAMP:20260419T193849
CREATED:20251109T160014Z
LAST-MODIFIED:20260413T164056Z
UID:296-1791133200-1791140400@www.cvjm-anzhausen.de
SUMMARY:Musikalischer Festabend zum 100-jährigen Bestehen
DESCRIPTION:Anlässlich unseres 100. Geburtstags laden wir zu einem Musikalischen Festabend ein. \nUnter Mitwirkung des Posaunenchors feiern wir unser Jubiläum im Rahmen eines musikalischen Festabends. Beginn ist um 17:00 Uhr in der Mehrzweckhalle Anzhausen.
URL:https://www.cvjm-anzhausen.de/?tribe_events=konzert-posaunenchor
LOCATION:Mehrzweckhalle Anzhausen\, Deuzer Str. 6\, Mehrzweckhalle Anzhausen\, 57234\, Germany
END:VEVENT
BEGIN:VEVENT
DTSTART;TZID=Europe/Berlin:20261010T190000
DTEND;TZID=Europe/Berlin:20261010T220000
DTSTAMP:20260419T193849
CREATED:20260201T180018Z
LAST-MODIFIED:20260413T164328Z
UID:339-1791658800-1791669600@www.cvjm-anzhausen.de
SUMMARY:SPIEL MIT: Zusammen Spielen - Zusammen Gewinnen
DESCRIPTION:🎲 CVJM-SpieleabendJeden 2. Samstag im MonatFamilien- & Strategiespiele\, kooperative Spiele\,Tischtennis\, Kicker & DartMit geistlichem ImpulsFür alle Generationen📍 Vereinshaus\, Bösselbach 12👉 Ansprechpartner: Manuel Gröschel\, Tel. 0151-24102221\, manuel.groeschel@cvjm-anzhausen.deAufsichtspflicht liegt bei den Eltern
URL:https://www.cvjm-anzhausen.de/?tribe_events=spiel-mit-zusammen-spielen-zusammen-gewinnen-8
END:VEVENT
BEGIN:VEVENT
DTSTART;VALUE=DATE:20261107
DTEND;VALUE=DATE:20261108
DTSTAMP:20260419T193849
CREATED:20251109T113702Z
LAST-MODIFIED:20251109T114615Z
UID:292-1794009600-1794095999@www.cvjm-anzhausen.de
SUMMARY:Baumpflanzaktion
DESCRIPTION:100 Jahre CVJM-Anzhausen: 100 Bäume für unser Zukunft \nZum 100-jährigen Jubiläum unseres CVJM möchten wir unserer Heimat Anzhausen ein nachhaltiges Geschenk machen und zugleich aktiv zur Wiederaufforstung beitragen: In Kooperation mit der Waldgenossenschaft Anzhausen wollen wir eine großflächige Baumpflanzaktion durchführen\, bei der wir mindestens 100 klimaresistente Bäume pflanzen. \nJede/r ist eingeladen uns zu unterstützen und „seinen/ihren“ Baum zu pflanzen! \nNähere Infos folgen.
URL:https://www.cvjm-anzhausen.de/?tribe_events=baumpflanzaktion
END:VEVENT
BEGIN:VEVENT
DTSTART;TZID=Europe/Berlin:20261114T190000
DTEND;TZID=Europe/Berlin:20261114T220000
DTSTAMP:20260419T193849
CREATED:20260201T180015Z
LAST-MODIFIED:20260413T164309Z
UID:341-1794682800-1794693600@www.cvjm-anzhausen.de
SUMMARY:SPIEL MIT: Zusammen Spielen - Zusammen Gewinnen
DESCRIPTION:🎲 CVJM-SpieleabendJeden 2. Samstag im MonatFamilien- & Strategiespiele\, kooperative Spiele\,Tischtennis\, Kicker & DartMit geistlichem ImpulsFür alle Generationen📍 Vereinshaus\, Bösselbach 12👉 Ansprechpartner: Manuel Gröschel\, Tel. 0151-24102221\, manuel.groeschel@cvjm-anzhausen.deAufsichtspflicht liegt bei den Eltern
URL:https://www.cvjm-anzhausen.de/?tribe_events=spiel-mit-zusammen-spielen-zusammen-gewinnen-9
END:VEVENT
BEGIN:VEVENT
DTSTART;TZID=Europe/Berlin:20261212T190000
DTEND;TZID=Europe/Berlin:20261212T220000
DTSTAMP:20260419T193849
CREATED:20260201T180030Z
LAST-MODIFIED:20260413T164245Z
UID:343-1797102000-1797112800@www.cvjm-anzhausen.de
SUMMARY:SPIEL MIT: Zusammen Spielen - Zusammen Gewinnen
DESCRIPTION:🎲 CVJM-SpieleabendJeden 2. Samstag im MonatFamilien- & Strategiespiele\, kooperative Spiele\,Tischtennis\, Kicker & DartMit geistlichem ImpulsFür alle Generationen📍 Vereinshaus\, Bösselbach 12👉 Ansprechpartner: Manuel Gröschel\, Tel. 0151-24102221\, manuel.groeschel@cvjm-anzhausen.deAufsichtspflicht liegt bei den Eltern
URL:https://www.cvjm-anzhausen.de/?tribe_events=spiel-mit-zusammen-spielen-zusammen-gewinnen-10
END:VEVENT
END:VCALENDAR